BEGIN:VCALENDAR
VERSION:2.0
PRODID:-//Charlestown Citizens Alliance - ECPv6.15.20//NONSGML v1.0//EN
CALSCALE:GREGORIAN
METHOD:PUBLISH
X-ORIGINAL-URL:https://charlestowncitizens.org
X-WR-CALDESC:Events for Charlestown Citizens Alliance
REFRESH-INTERVAL;VALUE=DURATION:PT1H
X-Robots-Tag:noindex
X-PUBLISHED-TTL:PT1H
BEGIN:VTIMEZONE
TZID:America/New_York
BEGIN:DAYLIGHT
TZOFFSETFROM:-0500
TZOFFSETTO:-0400
TZNAME:EDT
DTSTART:20250309T070000
END:DAYLIGHT
BEGIN:STANDARD
TZOFFSETFROM:-0400
TZOFFSETTO:-0500
TZNAME:EST
DTSTART:20251102T060000
END:STANDARD
BEGIN:DAYLIGHT
TZOFFSETFROM:-0500
TZOFFSETTO:-0400
TZNAME:EDT
DTSTART:20260308T070000
END:DAYLIGHT
BEGIN:STANDARD
TZOFFSETFROM:-0400
TZOFFSETTO:-0500
TZNAME:EST
DTSTART:20261101T060000
END:STANDARD
BEGIN:DAYLIGHT
TZOFFSETFROM:-0500
TZOFFSETTO:-0400
TZNAME:EDT
DTSTART:20270314T070000
END:DAYLIGHT
BEGIN:STANDARD
TZOFFSETFROM:-0400
TZOFFSETTO:-0500
TZNAME:EST
DTSTART:20271107T060000
END:STANDARD
END:VTIMEZONE
BEGIN:VEVENT
DTSTART;TZID=America/New_York:20260424T190000
DTEND;TZID=America/New_York:20260424T220000
DTSTAMP:20260422T083313
CREATED:20251228T200437Z
LAST-MODIFIED:20260316T193233Z
UID:10003029-1777057200-1777068000@charlestowncitizens.org
SUMMARY:Star Gazing at Frosty Drew
DESCRIPTION:Frosty Drew Observatory is open Every Friday night (weather permitting) when they open the Observatory\, Science Center\, Sky Theatre\, and telescopes to the sky and offer stargazing and astronomy to anybody interested in observing with them. \nThey open their dome and telescopes to the public at around 7:00 p.m. \n“See the stars\, distant galaxies\, shining nebulae\, the planets and their moons\, and maybe a passing comet through our big telescope every clear Friday night. We open as soon after dusk as possible allowing for the season. We usually remain open till everybody leaves or the astronomers have geeked out enough to call it a night.“ \nTickets are required for visitors to attend this event. Tickets are $5 per person ages 5 and older. Once tickets become available\, they can be acquired at the event page or at the event until the event sells out.. Tickets will become available about four days before the day of the event. The event is weather dependent and tickets are non-refundable. \nCheck the Frosty Drew website on the day of the event before 3:00 pm. The update for the event will describe their plans for the night and what to expect regarding weather and astronomical sights.
URL:https://charlestowncitizens.org/event/star-gazing-frosty-drew-2-2-2-2-2-2-2-2/2026-04-24/
LOCATION:Frosty Drew Observatory And Science Center at Ninigret Park\, 62 Park Lane\, Charlestown\, RI\, 02813\, United States
CATEGORIES:Frosty Drew
ORGANIZER;CN="Frosty Drew Observatory":MAILTO:astronomer@frostydrew.org
GEO:41.3675027;-71.6631868
X-APPLE-STRUCTURED-LOCATION;VALUE=URI;X-ADDRESS=Frosty Drew Observatory And Science Center at Ninigret Park 62 Park Lane Charlestown RI 02813 United States;X-APPLE-RADIUS=500;X-TITLE=62 Park Lane:geo:-71.6631868,41.3675027
END:VEVENT
BEGIN:VEVENT
DTSTART;TZID=America/New_York:20260425T090000
DTEND;TZID=America/New_York:20260425T110000
DTSTAMP:20260422T083313
CREATED:20260406T204154Z
LAST-MODIFIED:20260406T204154Z
UID:10003044-1777107600-1777114800@charlestowncitizens.org
SUMMARY:Join Charlestown Land Trust To Cleanup Ninigret Park And Nearby Areas
DESCRIPTION:
URL:http://Join%20Charlestown%20Land%20Trust%20To%20Cleanup%20Ninigret%20Park%20And%20Nearby%20Areas
LOCATION:RI
CATEGORIES:Charlestown Land Trust
END:VEVENT
BEGIN:VEVENT
DTSTART;TZID=America/New_York:20260425T100000
DTEND;TZID=America/New_York:20260425T100000
DTSTAMP:20260422T083313
CREATED:20220417T173411Z
LAST-MODIFIED:20260405T184050Z
UID:10001251-1777111200-1777111200@charlestowncitizens.org
SUMMARY:Deerfoot 5K Run
DESCRIPTION:What: A 5k to commemorate Deerfoot (Tarzan Brown)\nCost:  $25 – Link for registration form \nHeld annually in Ninigret Park\, the Deerfoot 5K commemorates the accomplishments of Charlestown’s Ellison Myers Brown Sr. (September 22\, 1914¬August 23\, 1975)\, who was widely known as Tarzan Brown and as Deerfoot among his people of the Narragansett Indian Tribe. \nBrown was a two-time winner of the Boston Marathon\, in 1936 (2:33:40) and 1939 (2:28:51). A direct descendant of the last acknowledged royal family of the Narragansett Indian Tribe of Rhode Island\, he also participated in the 1936 Summer Olympics in Berlin. Brown was scheduled to be in the 1940 Summer Olympics in Helsinki\, Finland\, but they were cancelled due to WWII. \nStories about Brown often appear in the Boston media at race time. One is that\, in 1935\, he ran the last miles of the race barefoot\, having discarded his tattered sneakers approximately 20 miles into the race. Another is that\, in 1936\, the defending champion overtook Brown on what is known as Heartbreak Hill\, reportedly giving Brown a pat on the shoulder; Brown rallied and won the race. Another is that\, in 1938\, along the way to the finish in Boston\, Brown jumped into Lake Cochituate in Natick to cool off. \nBrown is one of two Native Americans to have won the Boston Marathon. Brown also set the American men’s record for a marathon at the 1939 Boston Marathon (2:28:51) and at a 1940 marathon in Salisbury Beach\, Massachusetts (2:27:30).
URL:https://charlestowncitizens.org/2026/04/05/deerfoot-5k-run/
LOCATION:Ninigret Park\, Park Lane\, Charlestown\, 02813\, United States
CATEGORIES:Town of Charlestown
END:VEVENT
BEGIN:VEVENT
DTSTART;TZID=America/New_York:20260428T180000
DTEND;TZID=America/New_York:20260428T190000
DTSTAMP:20260422T083313
CREATED:20260405T185459Z
LAST-MODIFIED:20260405T185459Z
UID:10003035-1777399200-1777402800@charlestowncitizens.org
SUMMARY:Cinder Worm Workshop – Fly Tying & Fishing
DESCRIPTION:
URL:https://charlestowncitizens.org/2026/04/05/cinder-worm-workshop-fly-tying-fishing/
LOCATION:RI
CATEGORIES:USFWS
END:VEVENT
BEGIN:VEVENT
DTSTART;TZID=America/New_York:20260429T180000
DTEND;TZID=America/New_York:20260429T180000
DTSTAMP:20260422T083313
CREATED:20260406T202403Z
LAST-MODIFIED:20260406T202403Z
UID:10003043-1777485600-1777485600@charlestowncitizens.org
SUMMARY:Bobcats And Human Land Use In Rhode Island
DESCRIPTION:
URL:https://charlestowncitizens.org/2026/04/06/bobcats-and-human-land-use/
LOCATION:RI
CATEGORIES:Charlestown Land Trust
END:VEVENT
END:VCALENDAR